Subject: [Xen-devel] [ovmf baseline-only test] 71967: all
pass



This run is configured for baseline tests only.

flight 71967 ovmf real [real]
http://osstest.xs.citrite.net/~osstest/testlogs/logs/71967/

Perfect :-)
All tests in this flight passed as required
version targeted for testing:
ovmf cc993a16e40372c07a0507d02d1030546470f986
baseline version:
ovmf bee7fe0ef950e2966cbdcd753be326f8a3c782f3

Last test of basis 71966 2017-08-11 17:49:53 Z 0 days
Testing same since 71967 2017-08-12 06:24:32 Z 0 days 1 attempts

------------------------------------------------------------
People who touched revisions under test:
Jiewen Yao <jiewen.yao@xxxxxxxxx>

jobs:
build-amd64-xsm pass
build-i386-xsm pass
build-amd64 pass
build-i386 pass
build-amd64-libvirt pass
build-i386-libvirt pass
build-amd64-pvops pass
build-i386-pvops pass
test-amd64-amd64-xl-qemuu-ovmf-amd64 pass
test-amd64-i386-xl-qemuu-ovmf-amd64 pass


------------------------------------------------------------
sg-report-flight on osstest.xs.citrite.net
logs: /home/osstest/logs
images: /home/osstest/images

Logs, config files, etc. are available at
http://osstest.xs.citrite.net/~osstest/testlogs/logs

Test harness code can be found at

urce.com/gitweb?p=osstest.git;a=summary">http://xenbits.xensource.com/gitweb?p=osstest.git;a=summary



Push not applicable.

------------------------------------------------------------
commit cc993a16e40372c07a0507d02d1030546470f986
Author: Jiewen Yao <jiewen.yao@xxxxxxxxx>
Date: Wed Aug 9 12:09:54 2017 +0800

Maintainers.txt: Change maintainer for Intel*Pkg.

Since Giri left Intel, we change 3 Intel*Pkg
maintainer.

Cc: Chasel Chiu <chasel.chiu@xxxxxxxxx>
Cc: Amy Chan <amy.chan@xxxxxxxxx>
Cc: Rangasai V Chaganty <rangasai.v.chaganty@xxxxxxxxx>
Contributed-under: TianoCore Contribution Agreement 1.0
Signed-off-by: Jiewen Yao <jiewen.yao@xxxxxxxxx>
Reviewed-by: Chasel Chiu <chasel.chiu@xxxxxxxxx>
Reviewed-by: Amy Chan <amy.chan@xxxxxxxxx>
Reviewed-by: Rangasai V Chaganty <rangasai.v.chaganty@xxxxxxxxx>
Reviewed-by: Michael D Kinney <michael.d.kinney@xxxxxxxxx>

_______________________________________________
Xen-devel mailing list
Xen-devel@xxxxxxxxxxxxx
https://lists.xen.org/xen-devel



Programming list archiving by: Enterprise Git Hosting