Subject: [Xen-devel] [ovmf baseline-only test] 71966: all
pass



This run is configured for baseline tests only.

flight 71966 ovmf real [real]
http://osstest.xs.citrite.net/~osstest/testlogs/logs/71966/

Perfect :-)
All tests in this flight passed as required
version targeted for testing:
ovmf bee7fe0ef950e2966cbdcd753be326f8a3c782f3
baseline version:
ovmf f8daac8121e66c46d3374f63f80308a777c2a2e7

Last test of basis 71963 2017-08-11 10:47:57 Z 0 days
Testing same since 71966 2017-08-11 17:49:53 Z 0 days 1 attempts

------------------------------------------------------------
People who touched revisions under test:
Jiaxin Wu <[email protected]>
Wu Jiaxin <[email protected]>

jobs:
build-amd64-xsm pass
build-i386-xsm pass
build-amd64 pass
build-i386 pass
build-amd64-libvirt pass
build-i386-libvirt pass
build-amd64-pvops pass
build-i386-pvops pass
test-amd64-amd64-xl-qemuu-ovmf-amd64 pass
test-amd64-i386-xl-qemuu-ovmf-amd64 pass


------------------------------------------------------------
sg-report-flight on osstest.xs.citrite.net
logs: /home/osstest/logs
images: /home/osstest/images

Logs, config files, etc. are available at
http://osstest.xs.citrite.net/~osstest/testlogs/logs

Test harness code can be found at
http://xenbits.xensource.com/gitweb?p=osstest.git;a=summary


Push not applicable.

------------------------------------------------------------
commit bee7fe0ef950e2966cbdcd753be326f8a3c782f3
Author: Jiaxin Wu <[email protected]>
Date: Tue Feb 28 08:35:26 2017 +0800

NetworkPkg/Ip6Dxe: Support SetData interface to clear specific configuration

UEFI Spec 2.7 adds the clarification on SetData interface usage to clear
specific
individual data types. This patch is to support this feature.

Cc: Ye Ting <[email protected]>
Cc: Fu Siyuan <[email protected]>
Contributed-under: TianoCore Contribution Agreement 1.0
Signed-off-by: Wu Jiaxin <[email protected]>
Reviewed-by: Ye Ting <[email protected]>

commit 1126570464470572bcd7d59b83c6c39120e73c87
Author: Jiaxin Wu <[email protected]>
Date: Tue Feb 28 08:35:08 2017 +0800

MdeModulePkg/Ip4Dxe: Support SetData interface to clear specific
configuration

UEFI Spec 2.7 adds the clarification on SetData interface usage to clear
specific
individual data types. This patch is to support this feature.

Cc: Ye Ting <[email protected]>
Cc: Fu Siyuan <[email protected]>
Contributed-under: TianoCore Contribution Agreement 1.0
Signed-off-by: Wu Jiaxin <[email protected]>
Reviewed-by: Ye Ting <[email protected]>

commit 1499e1ae6852efb68179071f9af1cb7584ac83af
Author: Jiaxin Wu <[email protected]>
Date: Mon Feb 20 09:30:29 2017 +0800

MdePkg: Update the comments of Ip4Config2/Ip6Config Protocol

Update the comments of Ip4Config2/Ip6Config Protocol to consistent
with UEFI Spec 2.7, which provides the capability to clear specific
individual data types.

Cc: Ye Ting <[email protected]>
Cc: Fu Siyuan <[email protected]>
Contributed-under: TianoCore Contribution Agreement 1.0
Signed-off-by: Wu Jiaxin <[email protected]>
Reviewed-by: Ye Ting <[email protected]>

_______________________________________________
Xen-devel mailing list
[email protected]
https://lists.xen.org/xen-devel



Programming list archiving by: Enterprise Git Hosting