Subject: [Xen-devel] [ovmf baseline-only test] 71957: all
pass



This run is configured for baseline tests only.

flight 71957 ovmf real [real]
http://osstest.xs.citrite.net/~osstest/testlogs/logs/71957/

Perfect :-)
All tests in this flight passed as required
version targeted for testing:
ovmf 7ef0dae092afcfb6fab7e8372c78097672168c4a
baseline version:
ovmf 7111e46fdebca0e03f6ddfcb029522c2fe68c74b

Last test of basis 71956 2017-08-09 16:20:20 Z 0 days
Testing same since 71957 2017-08-10 03:20:58 Z 0 days 1 attempts

------------------------------------------------------------
People who touched revisions under test:
Chao Zhang <[email protected]>
Zhang, Chao B <[email protected]>

jobs:
build-amd64-xsm pass
build-i386-xsm pass
build-amd64 pass
build-i386 pass
build-amd64-libvirt pass
build-i386-libvirt pass
build-amd64-pvops pass
build-i386-pvops pass
test-amd64-amd64-xl-qemuu-ovmf-amd64 pass
test-amd64-i386-xl-qemuu-ovmf-amd64 pass


------------------------------------------------------------
sg-report-flight on osstest.xs.citrite.net
logs: /home/osstest/logs
images: /home/osstest/images

Logs, config files, etc. are available at
http://osstest.xs.citrite.net/~osstest/testlogs/logs

Test harness code can be found at<...

br> http://xenbits.xensource.com/gitweb?p=osstest.git;a=summary


Push not applicable.

------------------------------------------------------------
commit 7ef0dae092afcfb6fab7e8372c78097672168c4a
Author: Zhang, Chao B <[email protected]>
Date: Mon Aug 7 22:48:21 2017 +0800

MdeModulePkg: Variable: Fix typo in variable measure

Fix variable measure debug message typo.

Cc: Star Zeng <[email protected]>
Cc: Yao Jiewen <[email protected]>
Contributed-under: TianoCore Contribution Agreement 1.0
Signed-off-by: Chao Zhang <[email protected]>
Reviewed-by: Star Zeng <[email protected]>

_______________________________________________
Xen-devel mailing list
[email protected]
https://lists.xen.org/xen-devel



Programming list archiving by: Enterprise Git Hosting