Subject: [Xen-devel] [xtf test] 112538: all pass - PUSHED



flight 112538 xtf real [real]
http://logs.test-lab.xenproject.org/osstest/logs/112538/

Perfect :-)
All tests in this flight passed as required
version targeted for testing:
xtf 0e04400b8575048ed0b10e4ac571c63e0769dfac
baseline version:
xtf c5be5f2f71d5bebb89c79bbcc5469445ee327b38

Last test of basis 112399 2017-07-31 17:50:54 Z 9 days
Testing same since 112538 2017-08-09 15:47:18 Z 0 days 1 attempts

------------------------------------------------------------
People who touched revisions under test:
Andrew Cooper <andrew.cooper3@xxxxxxxxxx>

jobs:
build-amd64-xtf pass
build-amd64 pass
build-amd64-pvops pass
test-xtf-amd64-amd64-1 pass
test-xtf-amd64-amd64-2 pass
test-xtf-amd64-amd64-3 pass
test-xtf-amd64-amd64-4 pass
test-xtf-amd64-amd64-5 pass


------------------------------------------------------------
sg-report-flight on osstest.test-lab.xenproject.org
logs: /home/logs/logs
images: /home/logs/images

Logs, config files, etc. are available at
http://logs.test-lab.xenproject.org/osstest/logs

Explanation of these reports, and of osstest in general, is at
http://xenbits.xen.org/gitweb/?p=osstest.git;a=blob;f=README.email;hb=master
http://xenbits.xen.org/gitweb/?p=osstest.git;a=blob;f=README;hb=master

Test harness code can be found at
http://xenbits.xen.org/gitweb?p=osstest.git;a=summary


Pushing revision :

+ branch=xtf
+ revision=0e04400b8575048ed0b10e4ac571c63e0769dfac
+ . ./cri-lock-repos
++ . ./cri-common
+++ . ./cri-getconfig
+++ umask 002
+++ getrepos
++++ getconfig Repos
++++ perl -e '
use Osstest;
readglobalconfig();
print $c{"Repos"} or die $!;
'
+++ local repos=/home/osstest/repos
+++ '[' -z /home/osstest/repos ']'
+++ '[' '!' -d /home/osstest/repos ']'
+++ echo /home/osstest/repos
++ repos=/home/osstest/repos
++ repos_lock=/home/osstest/repos/lock
++ '[' x '!=' x/home/osstest/repos/lock ']'
++ OSSTEST_REPOS_LOCK_LOCKED=/home/osstest/repos/lock
++ exec with-lock-ex -w /home/osstest/repos/lock ./ap-push xtf
0e04400b8575048ed0b10e4ac571c63e0769dfac
+ branch=xtf
+ revision=0e04400b8575048ed0b10e4ac571c63e0769dfac
+ . ./cri-lock-repos
++ . ./cri-common
+++ . ./cri-getconfig
+++ umask 002
+++ getrepos
++++ getconfig Repos
++++ perl -e '
use Osstest;
readglobalconfig();
print $c{"Repos"} or die $!;
'
+++ local repos=/home/osstest/repos
+++ '[' -z /home/osstest/repos ']'
+++ '[' '!' -d /home/osstest/repos ']'
+++ echo /home/osstest/repos
++ repos=/home/osstest/repos
++ repos_lock=/home/osstest/repos/lock
++ '[' x/home/osstest/repos/lock '!=' x/home/osstest/repos/lock ']'
+ . ./cri-common
++ . ./cri-getconfig
++ umask 002
+ select_xenbranch
+ case "$branch" in
+ tree=xtf
+ xenbranch=xen-unstable
+ '[' xxtf = xlinux ']'
+ linuxbranch=
+ '[' x = x ']'
+ qemuubranch=qemu-upstream-unstable
+ select_prevxenbranch
++ ./cri-getprevxenbranch xen-unstable
+ prevxenbranch=xen-4.9-testing
+ '[' x0e04400b8575048ed0b10e4ac571c63e0769dfac = x ']'
+ : tested/2.6.39.x
+ . ./ap-common
++ : osstest@xxxxxxxxxxxxxxx
+++ getconfig OsstestUpstream
+++ perl -e '
use Osstest;
readglobalconfig();
print $c{"OsstestUpstream"} or die $!;
'
++ :
++ : git://xenbits.xen.org/xen.git
++ : osstest@xxxxxxxxxxxxxxx:/home/xen/git/xen.git
++ : git://xenbits.xen.org/qemu-xen-traditional.git
++ : git://git.kernel.org
++ : git://git.kernel.org/pub/scm/linux/kernel/git
++ : git
++ : git://xenbits.xen.org/xtf.git
++ : osstest@xxxxxxxxxxxxxxx:/home/xen/git/xtf.git
++ : git://xenbits.xen.org/xtf.git
++ : git://xenbits.xen.org/libvirt.git
++ : osstest@xxxxxxxxxxxxxxx:/home/xen/git/libvirt.git
++ : git://xenbits.xen.org/libvirt.git
++ : git://xenbits.xen.org/osstest/rumprun.git
++ : git
++ : git://xenbits.xen.org/osstest/rumprun.git
++ : osstest@xxxxxxxxxxxxxxx:/home/xen/git/osstest/rumprun.git
++ : git://git.seabios.org/seabios.git
++ : osstest@xxxxxxxxxxxxxxx:/home/xen/git/osstest/seabios.git
++ : git://xenbits.xen.org/osstest/seabios.git
++ : https://github.com/tianocore/edk2.git
++ : osstest@xxxxxxxxxxxxxxx:/home/xen/git/osstest/ovmf.git
++ : git://xenbits.xen.org/osstest/ovmf.git
++ : git://xenbits.xen.org/osstest/linux-firmware.git
++ : osstest@xxxxxxxxxxxxxxx:/home/osstest/ext/linux-firmware.git
++ : git://git.kernel.org/pub/scm/linux/kernel/git/firmware/linux-firmware.git
++ : osstest@xxxxxxxxxxxxxxx:/home/xen/git/linux-pvops.git
++ : git://xenbits.xen.org/linux-pvops.git
++ : tested/linux-4.9
++ : tested/linux-arm-xen
++ '[' xgit://xenbits.xen.org/linux-pvops.git = x ']'
++ '[' x = x ']'
++ : git://xenbits.xen.org/linux-pvops.git
++ : tested/linux-arm-xen
++ : git://git.kernel.org/pub/scm/linux/kernel/git/konrad/xen.git
++ : tested/2.6.39.x
++ : daily-cron.xtf
++ : daily-cron.xtf
++ : daily-cron.xtf
++ : daily-cron.xtf
++ : daily-cron.xtf
++ : daily-cron.xtf
++ : daily-cron.xtf
++ : http://hg.uk.xensource.com/carbon/trunk/linux-2.6.27
++ : git://xenbits.xen.org/qemu-xen.git
++ : osstest@xxxxxxxxxxxxxxx:/home/xen/git/qemu-xen.git
++ : daily-cron.xtf
++ : git://xenbits.xen.org/qemu-xen.git
++ : git://git.qemu.org/qemu.git
+ TREE_LINUX=osstest@xxxxxxxxxxxxxxx:/home/xen/git/linux-pvops.git
+ TREE_QEMU_UPSTREAM=osstest@xxxxxxxxxxxxxxx:/home/xen/git/qemu-xen.git
+ TREE_XEN=osstest@xxxxxxxxxxxxxxx:/home/xen/git/xen.git
+ TREE_LIBVIRT=osstest@xxxxxxxxxxxxxxx:/home/xen/git/libvirt.git
+ TREE_RUMPRUN=osstest@xxxxxxxxxxxxxxx:/home/xen/git/osstest/rumprun.git
+ TREE_SEABIOS=osstest@xxxxxxxxxxxxxxx:/home/xen/git/osstest/seabios.git
+ TREE_OVMF=osstest@xxxxxxxxxxxxxxx:/home/xen/git/osstest/ovmf.git
+ TREE_XTF=osstest@xxxxxxxxxxxxxxx:/home/xen/git/xtf.git
+ info_linux_tree xtf
+ case $1 in
+ return 1
+ case "$branch" in
+ cd /home/osstest/repos/xtf
+ git push osstest@xxxxxxxxxxxxxxx:/home/xen/git/xtf.git
0e04400b8575048ed0b10e4ac571c63e0769dfac:refs/heads/xen-tested-master
To osstest@xxxxxxxxxxxxxxx:/home/xen/git/xtf.git
c5be5f2..0e04400 0e04400b8575048ed0b10e4ac571c63e0769dfac ->
xen-tested-master

_______________________________________________
Xen-devel mailing list
Xen-devel@xxxxxxxxxxxxx
https://lists.xen.org/xen-devel



Programming list archiving by: Enterprise Git Hosting