Subject: [Xen-devel] [xen-unstable-coverity test] 112530:
all pass - PUSHED



flight 112530 xen-unstable-coverity real [real]
http://logs.test-lab.xenproject.org/osstest/logs/112530/

Perfect :-)
All tests in this flight passed as required
version targeted for testing:
xen dd050808ccc23f0a11d5596409f4245b9406a242
baseline version:
xen b8029db62eb2a06a204a8e2b69437d0927bd1ac4

Last test of basis 112483 2017-08-06 09:19:33 Z 3 days
Testing same since 112530 2017-08-09 09:54:55 Z 0 days 1 attempts

------------------------------------------------------------
People who touched revisions under test:
Andrew Cooper <andrew.cooper3@xxxxxxxxxx>
Andrii Anisov <andrii_anisov@xxxxxxxx>
He Chen <he.chen@xxxxxxxxxxxxxxx>
Ian Jackson <ian.jackson@xxxxxxxxxxxxx>
Iurii Konovalenko <iurii.konovalenko@xxxxxxxxxxxxxxx>
Iurii Mykhalskyi <iurii.mykhalskyi@xxxxxxxxxxxxxxx>
Jan Beulich <jbeulich@xxxxxxxx>
Julien Grall <julien.grall@xxxxxxx>
Kevin Tian <kevin.tian@xxxxxxxxx>
Marek Marczykowski-Górecki <marmarek@xxxxxxxxxxxxxxxxxxxxxx>
Praveen Kumar <kpraveen.lkml@xxxxxxxxx>
Rusty Bird <rustybird@xxxxxxxxxxxxxxx>
Sergej Proskurin <proskurin@xxxxxxxxxxxxx>
Stefano Stabellini <sstabellini@xxxxxxxxxx>
Wei Liu <wei.liu2@xxxxxxxxxx>
Xiao Liang <xiliang@xxxxxxxxxx>
xiliang <xiliang@xxxxxxxxxx>
Yi Sun <yi.y.sun@xxxxxxxxxxxxxxx>

jobs:
coverity-amd64 pass


------------------------------------------------------------
sg-report-flight on osstest.test-lab.xenproject.org
logs: /home/logs/logs
images: /home/logs/images

Logs, config files, etc. are available at
http://logs.test-lab.xenproject.org/osstest/logs

Explanation of these reports, and of osstest in general, is at
http://xenbits.xen.org/gitweb/?p=osstest.git;a=blob;f=README.email;hb=master
http://xenbits.xen.org/gitweb/?p=osstest.git;a=blob;f=README;hb=master

Test harness code can be found at
http://xenbits.xen.org/gitweb?p=osstest.git;a=summary


Pushing revision :

+ branch=xen-unstable-coverity
+ revision=dd050808ccc23f0a11d5596409f4245b9406a242
+ . ./cri-lock-repos
++ . ./cri-common
+++ . ./cri-getconfig
+++ umask 002
+++ getrepos
++++ getconfig Repos
++++ perl -e '
use Osstest;
readglobalconfig();
print $c{"Repos"} or die $!;
'
+++ local repos=/home/osstest/repos
+++ '[' -z /home/osstest/repos ']'
+++ '[' '!' -d /home/osstest/repos ']'
+++ echo /home/osstest/repos
++ repos=/home/osstest/repos
++ repos_lock=/home/osstest/repos/lock
++ '[' x '!=' x/home/osstest/repos/lock ']'
++ OSSTEST_REPOS_LOCK_LOCKED=/home/osstest/repos/lock
++ exec with-lock-ex -w /home/osstest/repos/lock ./ap-push
xen-unstable-coverity dd050808ccc23f0a11d5596409f4245b9406a242
+ branch=xen-unstable-coverity
+ revision=dd050808ccc23f0a11d5596409f4245b9406a242
+ . ./cri-lock-repos
++ . ./cri-common
+++ . ./cri-getconfig
+++ umask 002
+++ getrepos
++++ getconfig Repos
++++ perl -e '
use Osstest;
readglobalconfig();
print $c{"Repos"} or die $!;
'
+++ local repos=/home/osstest/repos
+++ '[' -z /home/osstest/repos ']'
+++ '[' '!' -d /home/osstest/repos ']'
+++ echo /home/osstest/repos
++ repos=/home/osstest/repos
++ repos_lock=/home/osstest/repos/lock
++ '[' x/home/osstest/repos/lock '!=' x/home/osstest/repos/lock ']'
+ . ./cri-common
++ . ./cri-getconfig
++ umask 002
+ select_xenbranch
+ case "$branch" in
+ tree=xen
+ xenbranch=xen-unstable-coverity
+ qemuubranch=qemu-upstream-unstable-coverity
+ qemuubranch=qemu-upstream-unstable
+ '[' xxen = xlinux ']'
+ linuxbranch=
+ '[' xqemu-upstream-unstable = x ']'
+ select_prevxenbranch
++ ./cri-getprevxenbranch xen-unstable-coverity
+ prevxenbranch=xen-4.9-testing
+ '[' xdd050808ccc23f0a11d5596409f4245b9406a242 = x ']'
+ : tested/2.6.39.x
+ . ./ap-common
++ : osstest@xxxxxxxxxxxxxxx
+++ getconfig OsstestUpstream
+++ perl -e '
use Osstest;
readglobalconfig();
print $c{"OsstestUpstream"} or die $!;
'
++ :
++ : git://xenbits.xen.org/xen.git
++ : osstest@xxxxxxxxxxxxxxx:/home/xen/git/xen.git
++ : git://xenbits.xen.org/qemu-xen-traditional.git
++ : git://git.kernel.org
++ : git://git.kernel.org/pub/scm/linux/kernel/git
++ : git
++ : git://xenbits.xen.org/xtf.git
++ : osstest@xxxxxxxxxxxxxxx:/home/xen/git/xtf.git
++ : git://xenbits.xen.org/xtf.git
++ : git://xenbits.xen.org/libvirt.git
++ : osstest@xxxxxxxxxxxxxxx:/home/xen/git/libvirt.git
++ : git://xenbits.xen.org/libvirt.git
++ : git://xenbits.xen.org/osstest/rumprun.git
++ : git
++ : git://xenbits.xen.org/osstest/rumprun.git
++ : osstest@xxxxxxxxxxxxxxx:/home/xen/git/osstest/rumprun.git
++ : git://git.seabios.org/seabios.git
++ : osstest@xxxxxxxxxxxxxxx:/home/xen/git/osstest/seabios.git
++ : git://xenbits.xen.org/osstest/seabios.git
++ : https://github.com/tianocore/edk2.git
++ : osstest@xxxxxxxxxxxxxxx:/home/xen/git/osstest/ovmf.git
++ : git://xenbits.xen.org/osstest/ovmf.git
++ : git://xenbits.xen.org/osstest/linux-firmware.git
++ : osstest@xxxxxxxxxxxxxxx:/home/osstest/ext/linux-firmware.git
++ : git://git.kernel.org/pub/scm/linux/kernel/git/firmware/linux-firmware.git
++ : osstest@xxxxxxxxxxxxxxx:/home/xen/git/linux-pvops.git
++ : git://xenbits.xen.org/linux-pvops.git
++ : tested/linux-4.9
++ : tested/linux-arm-xen
++ '[' xgit://xenbits.xen.org/linux-pvops.git = x ']'
++ '[' x = x ']'
++ : git://xenbits.xen.org/linux-pvops.git
++ : tested/linux-arm-xen
++ : git://git.kernel.org/pub/scm/linux/kernel/git/konrad/xen.git
++ : tested/2.6.39.x
++ : daily-cron.xen-unstable-coverity
++ : daily-cron.xen-unstable-coverity
++ : daily-cron.xen-unstable-coverity
++ : daily-cron.xen-unstable-coverity
++ : daily-cron.xen-unstable-coverity
++ : daily-cron.xen-unstable-coverity
++ : daily-cron.xen-unstable-coverity
++ : http://hg.uk.xensource.com/carbon/trunk/linux-2.6.27
++ : git://xenbits.xen.org/qemu-xen.git
++ : osstest@xxxxxxxxxxxxxxx:/home/xen/git/qemu-xen.git
++ : daily-cron.xen-unstable-coverity
++ : git://xenbits.xen.org/qemu-xen.git
++ : git://git.qemu.org/qemu.git
+ TREE_LINUX=osstest@xxxxxxxxxxxxxxx:/home/xen/git/linux-pvops.git
+ TREE_QEMU_UPSTREAM=osstest@xxxxxxxxxxxxxxx:/home/xen/git/qemu-xen.git
+ TREE_XEN=osstest@xxxxxxxxxxxxxxx:/home/xen/git/xen.git
+ TREE_LIBVIRT=osstest@xxxxxxxxxxxxxxx:/home/xen/git/libvirt.git
+ TREE_RUMPRUN=osstest@xxxxxxxxxxxxxxx:/home/xen/git/osstest/rumprun.git
+ TREE_SEABIOS=osstest@xxxxxxxxxxxxxxx:/home/xen/git/osstest/seabios.git
+ TREE_OVMF=osstest@xxxxxxxxxxxxxxx:/home/xen/git/osstest/ovmf.git
+ TREE_XTF=osstest@xxxxxxxxxxxxxxx:/home/xen/git/xtf.git
+ info_linux_tree xen-unstable-coverity
+ case $1 in
+ return 1
+ case "$branch" in
+ cd /home/osstest/repos/xen
+ git push osstest@xxxxxxxxxxxxxxx:/home/xen/git/xen.git
dd050808ccc23f0a11d5596409f4245b9406a242:refs/heads/coverity-tested/smoke
To osstest@xxxxxxxxxxxxxxx:/home/xen/git/xen.git
b8029db..dd05080 dd050808ccc23f0a11d5596409f4245b9406a242 ->
coverity-tested/smoke

_______________________________________________
Xen-devel mailing list
Xen-devel@xxxxxxxxxxxxx
https://lists.xen.org/xen-devel



Programming list archiving by: Enterprise Git Hosting