Subject: [Xen-devel] [ovmf baseline-only test] 71953: all
pass



This run is configured for baseline tests only.

flight 71953 ovmf real [real]
http://osstest.xs.citrite.net/~osstest/testlogs/logs/71953/

Perfect :-)
All tests in this flight passed as required
version targeted for testing:
ovmf 2913ebb2b550f50a14f105e26995dd095e627ba4
baseline version:
ovmf 9e2a8e928995c3b1bb664b73fd59785055c6b5f6

Last test of basis 71952 2017-08-09 01:17:17 Z 0 days
Testing same since 71953 2017-08-09 05:17:19 Z 0 days 1 attempts

------------------------------------------------------------
People who touched revisions under test:
Jiaxin Wu <[email protected]>
Wu Jiaxin <[email protected]>

jobs:
build-amd64-xsm pass
build-i386-xsm pass
build-amd64 pass
build-i386 pass
build-amd64-libvirt pass
build-i386-libvirt pass
build-amd64-pvops pass
build-i386-pvops pass
test-amd64-amd64-xl-qemuu-ovmf-amd64 pass
test-amd64-i386-xl-qemuu-ovmf-amd64 pass


------------------------------------------------------------
sg-report-flight on osstest.xs.citrite.net
logs: /home/osstest/logs
images: /home/osstest/images

Logs, config files, etc. are available at
http://osstest.xs.citrite.net/~osstest/testlogs/logs

Test harness code can be found at

rel="nofollow" href="http://xenbits.xensource.com/gitweb?p=osstest.git;a=summary">http://xenbits.xensource.com/gitweb?p=osstest.git;a=summary



Push not applicable.

------------------------------------------------------------
commit 2913ebb2b550f50a14f105e26995dd095e627ba4
Author: Jiaxin Wu <[email protected]>
Date: Tue Aug 8 15:21:20 2017 +0800

NetworkPkg/HttpBootDxe: Refine the coding style.

Cc: Ye Ting <[email protected]>
Cc: Bi Dandan <[email protected]>
Contributed-under: TianoCore Contribution Agreement 1.0
Signed-off-by: Wu Jiaxin <[email protected]>
Reviewed-by: Dandan Bi <[email protected]>

_______________________________________________
Xen-devel mailing list
[email protected]
https://lists.xen.org/xen-devel



Programming list archiving by: Enterprise Git Hosting