Subject: [Xen-devel] [ovmf test] 112522: all pass - PUSHED



flight 112522 ovmf real [real]
http://logs.test-lab.xenproject.org/osstest/logs/112522/

Perfect :-)
All tests in this flight passed as required
version targeted for testing:
ovmf 9e2a8e928995c3b1bb664b73fd59785055c6b5f6
baseline version:
ovmf 4cf3f37c87ba1f9d58072444bd735e40e4779e70

Last test of basis 112518 2017-08-08 08:21:39 Z 0 days
Testing same since 112522 2017-08-08 18:17:12 Z 0 days 1 attempts

------------------------------------------------------------
People who touched revisions under test:
Dhiru Kholia <[email protected]>
Laszlo Ersek <[email protected]>

jobs:
build-amd64-xsm pass
build-i386-xsm pass
build-amd64 pass
build-i386 pass
build-amd64-libvirt pass
build-i386-libvirt pass
build-amd64-pvops pass
build-i386-pvops pass
test-amd64-amd64-xl-qemuu-ovmf-amd64 pass
test-amd64-i386-xl-qemuu-ovmf-amd64 pass


------------------------------------------------------------
sg-report-flight on osstest.test-lab.xenproject.org
logs: /home/logs/logs
images: /home/logs/images

Logs, config files, etc. are available at
http://logs.test-lab.xenproject.org/osstest/logs

Explanation of these reports, and of osstest in general, is at
http://xenbits.xen.org/gitweb/?p=osstest.git;a=blob;f=README.email;hb=master
http://xenbits.xen.org/gitweb/?p=osstest.git;a=blob;f=README;hb=master

Test harness code can be found at
http://xenbits.xen.org/gitweb?p=osstest.git;a=summary


Pushing revision :

+ branch=ovmf
+ revision=9e2a8e928995c3b1bb664b73fd59785055c6b5f6
+ . ./cri-lock-repos
++ . ./cri-common
+++ . ./cri-getconfig
+++ umask 002
+++ getrepos
++++ getconfig Repos
++++ perl -e '
use Osstest;
readglobalconfig();
print $c{"Repos"} or die $!;
'
+++ local repos=/home/osstest/repos
+++ '[' -z /home/osstest/repos ']'
+++ '[' '!' -d /home/osstest/repos ']'
+++ echo /home/osstest/repos
++ repos=/home/osstest/repos
++ repos_lock=/home/osstest/repos/lock
++ '[' x '!=' x/home/osstest/repos/lock ']'
++ OSSTEST_REPOS_LOCK_LOCKED=/home/osstest/repos/lock
++ exec with-lock-ex -w /home/osstest/repos/lock ./ap-push ovmf
9e2a8e928995c3b1bb664b73fd59785055c6b5f6
+ branch=ovmf
+ revision=9e2a8e928995c3b1bb664b73fd59785055c6b5f6
+ . ./cri-lock-repos
++ . ./cri-common
+++ . ./cri-getconfig
+++ umask 002
+++ getrepos
++++ getconfig Repos
++++ perl -e '
use Osstest;
readglobalconfig();
print $c{"Repos"} or die $!;
'
+++ local repos=/home/osstest/repos
+++ '[' -z /home/osstest/repos ']'
+++ '[' '!' -d /home/osstest/repos ']'
+++ echo /home/osstest/repos
++ repos=/home/osstest/repos
++ repos_lock=/home/osstest/repos/lock
++ '[' x/home/osstest/repos/lock '!=' x/home/osstest/repos/lock ']'
+ . ./cri-common
++ . ./cri-getconfig
++ umask 002
+ select_xenbranch
+ case "$branch" in
+ tree=ovmf
+ xenbranch=xen-unstable
+ '[' xovmf = xlinux ']'
+ linuxbranch=
+ '[' x = x ']'
+ qemuubranch=qemu-upstream-unstable
+ select_prevxenbranch
++ ./cri-getprevxenbranch xen-unstable
+ prevxenbranch=xen-4.9-testing
+ '[' x9e2a8e928995c3b1bb664b73fd59785055c6b5f6 = x ']'
+ : tested/2.6.39.x
+ . ./ap-common
++ : [email protected]
+++ getconfig OsstestUpstream
+++ perl -e '
use Osstest;
readglobalconfig();
print $c{"OsstestUpstream"} or die $!;
'
++ :
++ : git://xenbits.xen.org/xen.git
++ : [email protected]:/home/xen/git/xen.git
++ : git://xenbits.xen.org/qemu-xen-traditional.git
++ : git://git.kernel.org
++ : git://git.kernel.org/pub/scm/linux/kernel/git
++ : git
++ : git://xenbits.xen.org/xtf.git
++ : [email protected]:/home/xen/git/xtf.git
++ : git://xenbits.xen.org/xtf.git
++ : git://xenbits.xen.org/libvirt.git
++ : [email protected]:/home/xen/git/libvirt.git
++ : git://xenbits.xen.org/libvirt.git
++ : git://xenbits.xen.org/osstest/rumprun.git
++ : git
++ : git://xenbits.xen.org/osstest/rumprun.git
++ : [email protected]:/home/xen/git/osstest/rumprun.git
++ : git://git.seabios.org/seabios.git
++ : [email protected]:/home/xen/git/osstest/seabios.git
++ : git://xenbits.xen.org/osstest/seabios.git
++ : https://github.com/tianocore/edk2.git
++ : [email protected]:/home/xen/git/osstest/ovmf.git
++ : git://xenbits.xen.org/osstest/ovmf.git
++ : git://xenbits.xen.org/osstest/linux-firmware.git
++ : [email protected]:/home/osstest/ext/linux-firmware.git
++ : git://git.kernel.org/pub/scm/linux/kernel/git/firmware/linux-firmware.git
++ : [email protected]:/home/xen/git/linux-pvops.git
++ : git://xenbits.xen.org/linux-pvops.git
++ : tested/linux-4.9
++ : tested/linux-arm-xen
++ '[' xgit://xenbits.xen.org/linux-pvops.git = x ']'
++ '[' x = x ']'
++ : git://xenbits.xen.org/linux-pvops.git
++ : tested/linux-arm-xen
++ : git://git.kernel.org/pub/scm/linux/kernel/git/konrad/xen.git
++ : tested/2.6.39.x
++ : daily-cron.ovmf
++ : daily-cron.ovmf
++ : daily-cron.ovmf
++ : daily-cron.ovmf
++ : daily-cron.ovmf
++ : daily-cron.ovmf
++ : daily-cron.ovmf
++ : http://hg.uk.xensource.com/carbon/trunk/linux-2.6.27
++ : git://xenbits.xen.org/qemu-xen.git
++ : [email protected]:/home/xen/git/qemu-xen.git
++ : daily-cron.ovmf
++ : git://xenbits.xen.org/qemu-xen.git
++ : git://git.qemu.org/qemu.git
+ [email protected]:/home/xen/git/linux-pvops.git
+ [email protected]:/home/xen/git/qemu-xen.git
+ [email protected]:/home/xen/git/xen.git
+ [email protected]:/home/xen/git/libvirt.git
+ [email protected]:/home/xen/git/osstest/rumprun.git
+ [email protected]:/home/xen/git/osstest/seabios.git
+ [email protected]:/home/xen/git/osstest/ovmf.git
+ [email protected]:/home/xen/git/xtf.git
+ info_linux_tree ovmf
+ case $1 in
+ return 1
+ case "$branch" in
+ cd /home/osstest/repos/ovmf
+ git push [email protected]:/home/xen/git/osstest/ovmf.git
9e2a8e928995c3b1bb664b73fd59785055c6b5f6:refs/heads/xen-tested-master
To [email protected]:/home/xen/git/osstest/ovmf.git
4cf3f37..9e2a8e9 9e2a8e928995c3b1bb664b73fd59785055c6b5f6 ->
xen-tested-master

_______________________________________________
Xen-devel mailing list
[email protected]
https://lists.xen.org/xen-devel



Programming list archiving by: Enterprise Git Hosting