Subject: [Xen-devel] [ovmf baseline-only test] 71947: all
pass



This run is configured for baseline tests only.

flight 71947 ovmf real [real]
http://osstest.xs.citrite.net/~osstest/testlogs/logs/71947/

Perfect :-)
All tests in this flight passed as required
version targeted for testing:
ovmf 8853c2afc51c2cab862acbef308f2588264e188b
baseline version:
ovmf 97c567efd303f610ac16e12b4bf066d0240f6d0b

Last test of basis 71945 2017-08-07 05:56:58 Z 0 days
Testing same since 71947 2017-08-07 17:47:20 Z 0 days 1 attempts

------------------------------------------------------------
People who touched revisions under test:
Chris Ruffin <[email protected]>

jobs:
build-amd64-xsm pass
build-i386-xsm pass
build-amd64 pass
build-i386 pass
build-amd64-libvirt pass
build-i386-libvirt pass
build-amd64-pvops pass
build-i386-pvops pass
test-amd64-amd64-xl-qemuu-ovmf-amd64 pass
test-amd64-i386-xl-qemuu-ovmf-amd64 pass


------------------------------------------------------------
sg-report-flight on osstest.xs.citrite.net
logs: /home/osstest/logs
images: /home/osstest/images

Logs, config files, etc. are available at
http://osstest.xs.citrite.net/~osstest/testlogs/logs

Test harness code can be found at

ensource.com/gitweb?p=osstest.git;a=summary">http://xenbits.xensource.com/gitweb?p=osstest.git;a=summary



Push not applicable.

------------------------------------------------------------
commit 8853c2afc51c2cab862acbef308f2588264e188b
Author: Chris Ruffin <[email protected]>
Date: Thu Aug 3 04:30:06 2017 +0800

BaseTools/Conf: apply nasmb, asm16 build rule order

Prioritize nasmb rule over asm16 where both source types are specified.

Change-Id: I33ec348dab66b313ddb05cb15f2d8407a648c320
Contributed-under: TianoCore Contribution Agreement 1.0
Signed-off-by: Chris Ruffin <[email protected]>
Reviewed-by: Liming Gao <[email protected]>

_______________________________________________
Xen-devel mailing list
[email protected]
https://lists.xen.org/xen-devel



Programming list archiving by: Enterprise Git Hosting