Subject: [Xen-devel] [ovmf baseline-only test] 71945: all
pass



This run is configured for baseline tests only.

flight 71945 ovmf real [real]
http://osstest.xs.citrite.net/~osstest/testlogs/logs/71945/

Perfect :-)
All tests in this flight passed as required
version targeted for testing:
ovmf 97c567efd303f610ac16e12b4bf066d0240f6d0b
baseline version:
ovmf 1fceaddb12b59e5711b26f26859e324e7a8e212a

Last test of basis 71944 2017-08-05 19:49:22 Z 1 days
Testing same since 71945 2017-08-07 05:56:58 Z 0 days 1 attempts

------------------------------------------------------------
People who touched revisions under test:
Jiaxin Wu <jiaxin.wu@xxxxxxxxx>
Wu Jiaxin <jiaxin.wu@xxxxxxxxx>

jobs:
build-amd64-xsm pass
build-i386-xsm pass
build-amd64 pass
build-i386 pass
build-amd64-libvirt pass
build-i386-libvirt pass
build-amd64-pvops pass
build-i386-pvops pass
test-amd64-amd64-xl-qemuu-ovmf-amd64 pass
test-amd64-i386-xl-qemuu-ovmf-amd64 pass


------------------------------------------------------------
sg-report-flight on osstest.xs.citrite.net
logs: /home/osstest/logs
images: /home/osstest/images

Logs, config files, etc. are available at
http://osstest.xs.citrite.net/~osstest/testlogs/logs

Test harness code can be found at

rel="nofollow" href="http://xenbits.xensource.com/gitweb?p=osstest.git;a=summary">http://xenbits.xensource.com/gitweb?p=osstest.git;a=summary



Push not applicable.

------------------------------------------------------------
commit 97c567efd303f610ac16e12b4bf066d0240f6d0b
Author: Jiaxin Wu <jiaxin.wu@xxxxxxxxx>
Date: Wed Aug 2 15:51:47 2017 +0800

NetworkPkg/HttpDxe: Support HTTP Patch method

Cc: Ye Ting <ting.ye@xxxxxxxxx>
Cc: Fu Siyuan <siyuan.fu@xxxxxxxxx>
Contributed-under: TianoCore Contribution Agreement 1.0
Signed-off-by: Wu Jiaxin <jiaxin.wu@xxxxxxxxx>
Reviewed-by: Fu Siyuan <siyuan.fu@xxxxxxxxx>
Reviewed-by: Ye Ting <ting.ye@xxxxxxxxx>

_______________________________________________
Xen-devel mailing list
Xen-devel@xxxxxxxxxxxxx
https://lists.xen.org/xen-devel



Programming list archiving by: Enterprise Git Hosting